BEGIN:VCALENDAR
VERSION:2.0
PRODID:-//Tarrant County GOP - ECPv6.15.13//NONSGML v1.0//EN
CALSCALE:GREGORIAN
METHOD:PUBLISH
X-ORIGINAL-URL:https://tarrantgop.org
X-WR-CALDESC:Events for Tarrant County GOP
REFRESH-INTERVAL;VALUE=DURATION:PT1H
X-Robots-Tag:noindex
X-PUBLISHED-TTL:PT1H
BEGIN:VTIMEZONE
TZID:America/Chicago
BEGIN:DAYLIGHT
TZOFFSETFROM:-0600
TZOFFSETTO:-0500
TZNAME:CDT
DTSTART:20250309T080000
END:DAYLIGHT
BEGIN:STANDARD
TZOFFSETFROM:-0500
TZOFFSETTO:-0600
TZNAME:CST
DTSTART:20251102T070000
END:STANDARD
BEGIN:DAYLIGHT
TZOFFSETFROM:-0600
TZOFFSETTO:-0500
TZNAME:CDT
DTSTART:20260308T080000
END:DAYLIGHT
BEGIN:STANDARD
TZOFFSETFROM:-0500
TZOFFSETTO:-0600
TZNAME:CST
DTSTART:20261101T070000
END:STANDARD
BEGIN:DAYLIGHT
TZOFFSETFROM:-0600
TZOFFSETTO:-0500
TZNAME:CDT
DTSTART:20270314T080000
END:DAYLIGHT
BEGIN:STANDARD
TZOFFSETFROM:-0500
TZOFFSETTO:-0600
TZNAME:CST
DTSTART:20271107T070000
END:STANDARD
END:VTIMEZONE
BEGIN:VEVENT
DTSTART;TZID=America/Chicago:20260504T183000
DTEND;TZID=America/Chicago:20260504T203000
DTSTAMP:20260422T041050
CREATED:20260223T050245Z
LAST-MODIFIED:20260223T050630Z
UID:10002131-1777919400-1777926600@tarrantgop.org
SUMMARY:Reagan Legacy Republican Women Monthly Meeting
DESCRIPTION:6:30 – 8:30 PM – Program starts at 7PM
URL:https://tarrantgop.org/event/reagan-legacy-republican-women-monthly-meeting-2/
LOCATION:Anchora Event Center\, 403 E Broad St.\, Mansfield\, TX\, 76063\, United States
ORGANIZER;CN="Reagan Legacy RW":MAILTO:shanda@philking.com
GEO:32.5636026;-97.1383354
X-APPLE-STRUCTURED-LOCATION;VALUE=URI;X-ADDRESS=Anchora Event Center 403 E Broad St. Mansfield TX 76063 United States;X-APPLE-RADIUS=500;X-TITLE=403 E Broad St.:geo:-97.1383354,32.5636026
END:VEVENT
BEGIN:VEVENT
DTSTART;TZID=America/Chicago:20260506T113000
DTEND;TZID=America/Chicago:20260506T130000
DTSTAMP:20260422T041050
CREATED:20260110T213014Z
LAST-MODIFIED:20260110T213014Z
UID:10001593-1778067000-1778072400@tarrantgop.org
SUMMARY:Tarrant Star Republican Women
DESCRIPTION:Monthly Luncheon. RSVP to croberge1127@gmail.com
URL:https://tarrantgop.org/event/tarrant-star-republican-women-4/
LOCATION:Sky Creek Ranch Golf Club\, 600 Promontory Dr.\, Keller\, TX
ORGANIZER;CN="Tarrant Star Republican Women":MAILTO:billmona_1@charter.net
GEO:32.9240703;-97.2088759
X-APPLE-STRUCTURED-LOCATION;VALUE=URI;X-ADDRESS=Sky Creek Ranch Golf Club 600 Promontory Dr. Keller TX;X-APPLE-RADIUS=500;X-TITLE=600 Promontory Dr.:geo:-97.2088759,32.9240703
END:VEVENT
BEGIN:VEVENT
DTSTART;TZID=America/Chicago:20260506T173000
DTEND;TZID=America/Chicago:20260506T190000
DTSTAMP:20260422T041050
CREATED:20260127T200141Z
LAST-MODIFIED:20260319T122031Z
UID:10002074-1778088600-1778094000@tarrantgop.org
SUMMARY:Cowtown Republican Women
DESCRIPTION:5:30-6:00pm Check-in/Social \n6:00-7:00pm Meeting
URL:https://tarrantgop.org/event/cowtown-republican-women-5/
LOCATION:Rivercrest Country Club\, 1501 Western Ave\, Fort Worth\, TX\, 76107\, United States
ATTACH;FMTTYPE=image/jpeg:https://tarrantgop.org/wp-content/uploads/2026/01/3f6a980d-7c2e-48cd-881f-5dedcca4d853.jpg
ORGANIZER;CN="Cowtown Republican Women":MAILTO:contact@cowtownrepublicanwomen.com
GEO:32.7444242;-97.3853817
X-APPLE-STRUCTURED-LOCATION;VALUE=URI;X-ADDRESS=Rivercrest Country Club 1501 Western Ave Fort Worth TX 76107 United States;X-APPLE-RADIUS=500;X-TITLE=1501 Western Ave:geo:-97.3853817,32.7444242
END:VEVENT
BEGIN:VEVENT
DTSTART;TZID=America/Chicago:20260512T180000
DTEND;TZID=America/Chicago:20260512T193000
DTSTAMP:20260422T041050
CREATED:20260114T142053Z
LAST-MODIFIED:20260114T142053Z
UID:10001636-1778608800-1778614200@tarrantgop.org
SUMMARY:Grapevine Republican Club Meeting
DESCRIPTION:Meeting starts at 6pm. Doors open at 5:30 \nAnd don’t miss the new restaurant downstairs at Stacy’s! Roma’s Italian Bistro – Come early or stay late to visit\, eat\, and drink!
URL:https://tarrantgop.org/event/grapevine-republican-club-meeting-13/
LOCATION:Stacy Furniture\, 1900 S Main St.\, Grapevine\, Grapevine\, TX\, United States
ORGANIZER;CN="Grapevine Republiucan Club":MAILTO:grapevinerc@gmail.com
GEO:32.9190878;-97.0799069
X-APPLE-STRUCTURED-LOCATION;VALUE=URI;X-ADDRESS=Stacy Furniture 1900 S Main St. Grapevine Grapevine TX United States;X-APPLE-RADIUS=500;X-TITLE=1900 S Main St.\, Grapevine:geo:-97.0799069,32.9190878
END:VEVENT
BEGIN:VEVENT
DTSTART;TZID=America/Chicago:20260512T183000
DTEND;TZID=America/Chicago:20260512T200000
DTSTAMP:20260422T041050
CREATED:20260117T151710Z
LAST-MODIFIED:20260117T151710Z
UID:10002041-1778610600-1778616000@tarrantgop.org
SUMMARY:Fort Worth Republican Women - Tuesday Talk
DESCRIPTION:
URL:https://tarrantgop.org/event/fort-worth-republican-women-tuesday-talk-4/
LOCATION:Prima’s Pizza and Pasta\, 6108 S Hulen St\, Fort Worth\, TX\, 76133\, United States
ORGANIZER;CN="Fort Worth Republican Women":MAILTO:events@fwrw.org
GEO:32.6582403;-97.3991312
X-APPLE-STRUCTURED-LOCATION;VALUE=URI;X-ADDRESS=Prima’s Pizza and Pasta 6108 S Hulen St Fort Worth TX 76133 United States;X-APPLE-RADIUS=500;X-TITLE=6108 S Hulen St:geo:-97.3991312,32.6582403
END:VEVENT
BEGIN:VEVENT
DTSTART;TZID=America/Chicago:20260512T190000
DTEND;TZID=America/Chicago:20260512T203000
DTSTAMP:20260422T041050
CREATED:20260421T200930Z
LAST-MODIFIED:20260421T200930Z
UID:10002569-1778612400-1778617800@tarrantgop.org
SUMMARY:Zariyan Stark - Euless City Council Swearing In
DESCRIPTION:Congratulations to Precinct Chair Zariyan Stark who ran unopposed for the Euless City Council.  Great to add another conservative voice to local city government. \nAll precinct chairs are invited to come and celebrate with him and his family on Tuesday\, May 12th @ 7pm \nEuless City Hall\, 201 N Ector Dr.\, Euless\, TX  76039
URL:https://tarrantgop.org/event/zariyan-stark-euless-city-council-swearing-in/
LOCATION:Euless City Hall\, 201 N Ector Drive\, Euless\, TX\, 76039\, United States
ATTACH;FMTTYPE=image/png:https://tarrantgop.org/wp-content/uploads/2026/04/original-1F615F20-358D-48EF-97F5-3A236782CC7B.png
ORGANIZER;CN="Zariyan Stark":MAILTO:Zariyan@StarkforEuless,com
GEO:32.8390167;-97.0925407
X-APPLE-STRUCTURED-LOCATION;VALUE=URI;X-ADDRESS=Euless City Hall 201 N Ector Drive Euless TX 76039 United States;X-APPLE-RADIUS=500;X-TITLE=201 N Ector Drive:geo:-97.0925407,32.8390167
END:VEVENT
BEGIN:VEVENT
DTSTART;TZID=America/Chicago:20260514T113000
DTEND;TZID=America/Chicago:20260514T130000
DTSTAMP:20260422T041050
CREATED:20260209T153839Z
LAST-MODIFIED:20260209T153839Z
UID:10002108-1778758200-1778763600@tarrantgop.org
SUMMARY:Metroplex Republican Women C.H.A.T.
DESCRIPTION:Informal Brunch gathering for member fellowship and discussion
URL:https://tarrantgop.org/event/metroplex-republican-women-c-h-a-t/2026-05-14/
LOCATION:Bacon’s Bistro & Cafe\, 714 Grapevine HWY\, Hurst\, TX\, 76054\, United States
ORGANIZER;CN="Metroplex Republican Women":MAILTO:coupdetant@aol.com
GEO:32.8611091;-97.1810126
X-APPLE-STRUCTURED-LOCATION;VALUE=URI;X-ADDRESS=Bacon’s Bistro & Cafe 714 Grapevine HWY Hurst TX 76054 United States;X-APPLE-RADIUS=500;X-TITLE=714 Grapevine HWY:geo:-97.1810126,32.8611091
END:VEVENT
BEGIN:VEVENT
DTSTART;TZID=America/Chicago:20260514T170000
DTEND;TZID=America/Chicago:20260514T210000
DTSTAMP:20260422T041050
CREATED:20260122T235655Z
LAST-MODIFIED:20260417T024108Z
UID:10002063-1778778000-1778792400@tarrantgop.org
SUMMARY:May Executive Committee Meeting
DESCRIPTION:Check-in begins at 5pm. Meeting begins at 6pm.
URL:https://tarrantgop.org/event/may-ec-meeting/
LOCATION:New TCGOP Office\, 201 North Rupert Street\, Suite 117\, Fort Worth\, TX\, 76107\, United States
GEO:32.7605728;-97.3502226
X-APPLE-STRUCTURED-LOCATION;VALUE=URI;X-ADDRESS=New TCGOP Office 201 North Rupert Street Suite 117 Fort Worth TX 76107 United States;X-APPLE-RADIUS=500;X-TITLE=201 North Rupert Street\, Suite 117:geo:-97.3502226,32.7605728
END:VEVENT
BEGIN:VEVENT
DTSTART;TZID=America/Chicago:20260518T181500
DTEND;TZID=America/Chicago:20260518T200000
DTSTAMP:20260422T041050
CREATED:20260113T203225Z
LAST-MODIFIED:20260113T204352Z
UID:10001612-1779128100-1779134400@tarrantgop.org
SUMMARY:North East Tarrant County Republican Club
DESCRIPTION:Location:  Texas Star in Euless\n6:15pm:  Dinner/Coffee Fellowship\n7:00pm:  Meeting\nTo reserve dinner ($20) email:  Zariyan.stark@gmail.com
URL:https://tarrantgop.org/event/north-east-tarrant-county-republican-club-2/2026-05-18/
LOCATION:Texas Star Golf Course – Conference Centre\, 1400 Texas Star Parkway\, Euless\, TX\, United States
ATTACH;FMTTYPE=image/jpeg:https://tarrantgop.org/wp-content/uploads/2026/01/Northeast-Tarrant-County-Republican-Club-pyhtg1c7wh1ihisvvfodck4hupjip58rhhifd7puw0.jpg
ORGANIZER;CN="NE Tarrant Republican Club":MAILTO:Zariyan.stark@gmail.com
GEO:32.8189313;-97.1144564
X-APPLE-STRUCTURED-LOCATION;VALUE=URI;X-ADDRESS=Texas Star Golf Course – Conference Centre 1400 Texas Star Parkway Euless TX United States;X-APPLE-RADIUS=500;X-TITLE=1400 Texas Star Parkway:geo:-97.1144564,32.8189313
END:VEVENT
BEGIN:VEVENT
DTSTART;TZID=America/Chicago:20260519T183000
DTEND;TZID=America/Chicago:20260519T200000
DTSTAMP:20260422T041050
CREATED:20260225T232548Z
LAST-MODIFIED:20260225T232548Z
UID:10002161-1779215400-1779220800@tarrantgop.org
SUMMARY:TARRANT COUNTY REPUBLICAN ASSEMBLY MONTHLY MEETING
DESCRIPTION:BOTANICAL GARDENS ROSE ROOM\, 3220 UNIVERSITY DRIVE\, FORT WORTH TX 76107 \nGathering and sign in at 6:30pm \nMeeting begins at 7:00pm \nEveryone is welcome to attend\, and you are invited to apply for a membership. New and exciting Conservative Republican speakers every month speaking on today’s most exciting and relevant topics. Always a great opportunity to meet candidates that are currently running for elected offices. \nFor information contact Andra Beatty 817-713-4598\, Andrabeatty@gmail.com
URL:https://tarrantgop.org/event/tarrant-county-republican-assembly-monthly-meeting-14/
LOCATION:Fort Worth Botanic Garden Rose Room\, 3220 Botanic Garden Blvd\, Fort Worth\, TX\, 76107
ORGANIZER;CN="TCRA":MAILTO:andrabeatty@gmail.com
GEO:32.7404164;-97.3638283
X-APPLE-STRUCTURED-LOCATION;VALUE=URI;X-ADDRESS=Fort Worth Botanic Garden Rose Room 3220 Botanic Garden Blvd Fort Worth TX 76107;X-APPLE-RADIUS=500;X-TITLE=3220 Botanic Garden Blvd:geo:-97.3638283,32.7404164
END:VEVENT
BEGIN:VEVENT
DTSTART;TZID=America/Chicago:20260521T110000
DTEND;TZID=America/Chicago:20260521T130000
DTSTAMP:20260422T041050
CREATED:20260205T031716Z
LAST-MODIFIED:20260205T031944Z
UID:10002101-1779361200-1779368400@tarrantgop.org
SUMMARY:Republican Women of Arlington - Monthly Meeting
DESCRIPTION:Special Guest\, Texas Rep Brian Harrison – District 10
URL:https://tarrantgop.org/event/republican-women-of-arlington-2/
LOCATION:Skillet N’ Grill\, 1801 W. Division\, Arlington\, TX\, 76013
ORGANIZER;CN="RWA":MAILTO:cyndielash2307@gmail.com
GEO:32.7363298;-97.1359797
X-APPLE-STRUCTURED-LOCATION;VALUE=URI;X-ADDRESS=Skillet N’ Grill 1801 W. Division Arlington TX 76013;X-APPLE-RADIUS=500;X-TITLE=1801 W. Division:geo:-97.1359797,32.7363298
END:VEVENT
BEGIN:VEVENT
DTSTART;TZID=America/Chicago:20260526T190000
DTEND;TZID=America/Chicago:20260526T203000
DTSTAMP:20260422T041050
CREATED:20260225T002328Z
LAST-MODIFIED:20260225T002328Z
UID:10002150-1779822000-1779827400@tarrantgop.org
SUMMARY:Tarrant County Republican Hispanic Assembly
DESCRIPTION:Discussion
URL:https://tarrantgop.org/event/tarrant-county-republican-hispanic-assembly-6/
LOCATION:Ol’ South Pancake House\, 1509 S University Dr\, Fort Worth\, 76107\, United States
GEO:32.7301671;-97.3604868
X-APPLE-STRUCTURED-LOCATION;VALUE=URI;X-ADDRESS=Ol’ South Pancake House 1509 S University Dr Fort Worth 76107 United States;X-APPLE-RADIUS=500;X-TITLE=1509 S University Dr:geo:-97.3604868,32.7301671
END:VEVENT
BEGIN:VEVENT
DTSTART;TZID=America/Chicago:20260527T113000
DTEND;TZID=America/Chicago:20260527T133000
DTSTAMP:20260422T041050
CREATED:20260114T042743Z
LAST-MODIFIED:20260114T042743Z
UID:10001624-1779881400-1779888600@tarrantgop.org
SUMMARY:Fort Worth Republican Women Meeting
DESCRIPTION:11:30 am – Social\nNoon – Lunch and Speaker \n  \n 
URL:https://tarrantgop.org/event/fort-worth-republican-women-meeting-15/
LOCATION:City Club Fort Worth\, 301 Commerce Street\, Fort Worth\, TX\, 76102
ORGANIZER;CN="Fort Worth Republican Women":MAILTO:events@fwrw.org
GEO:32.7559934;-97.3306006
X-APPLE-STRUCTURED-LOCATION;VALUE=URI;X-ADDRESS=City Club Fort Worth 301 Commerce Street Fort Worth TX 76102;X-APPLE-RADIUS=500;X-TITLE=301 Commerce Street:geo:-97.3306006,32.7559934
END:VEVENT
BEGIN:VEVENT
DTSTART;TZID=America/Chicago:20260528T113000
DTEND;TZID=America/Chicago:20260528T130000
DTSTAMP:20260422T041050
CREATED:20260224T132642Z
LAST-MODIFIED:20260224T132642Z
UID:10002139-1779967800-1779973200@tarrantgop.org
SUMMARY:Metroplex Republican Women - Monthly General Meeting
DESCRIPTION:Metroplex Republican Women
URL:https://tarrantgop.org/event/metroplex-republican-women-monthly-general-meeting-3/
LOCATION:North Pointe Baptist Church\, 147 E. Hurst Blvd\, Hurst\, TX\, 76053
ORGANIZER;CN="Metroplex Republican Women":MAILTO:coupdetant@aol.com
GEO:32.8099117;-97.1678305
X-APPLE-STRUCTURED-LOCATION;VALUE=URI;X-ADDRESS=North Pointe Baptist Church 147 E. Hurst Blvd Hurst TX 76053;X-APPLE-RADIUS=500;X-TITLE=147 E. Hurst Blvd:geo:-97.1678305,32.8099117
END:VEVENT
BEGIN:VEVENT
DTSTART;TZID=America/Chicago:20260528T180000
DTEND;TZID=America/Chicago:20260528T180000
DTSTAMP:20260422T041050
CREATED:20260101T060718Z
LAST-MODIFIED:20260121T154914Z
UID:10001573-1779991200-1779991200@tarrantgop.org
SUMMARY:Arlington Republican Club
DESCRIPTION:Regular Meeting the 4th Thursday of Every Month.
URL:https://tarrantgop.org/event/arlington-republican-club-6/2026-05-28/
LOCATION:Skillet N’ Grill\, 1801 W. Division\, Arlington\, TX\, 76013
ATTACH;FMTTYPE=image/jpeg:https://tarrantgop.org/wp-content/uploads/2025/12/Screenshot-2026-01-01-000612.jpg
GEO:32.7363298;-97.1359797
X-APPLE-STRUCTURED-LOCATION;VALUE=URI;X-ADDRESS=Skillet N’ Grill 1801 W. Division Arlington TX 76013;X-APPLE-RADIUS=500;X-TITLE=1801 W. Division:geo:-97.1359797,32.7363298
END:VEVENT
BEGIN:VEVENT
DTSTART;TZID=America/Chicago:20260601T183000
DTEND;TZID=America/Chicago:20260601T200000
DTSTAMP:20260422T041050
CREATED:20260120T164057Z
LAST-MODIFIED:20260120T164057Z
UID:10002053-1780338600-1780344000@tarrantgop.org
SUMMARY:Grand Prairie Republican Club Meeting
DESCRIPTION:Monthly Meeting
URL:https://tarrantgop.org/event/grand-prairie-republican-club-meeting-10/
LOCATION:Outlaw Barbeque\, 2334 S. Beltline Line Rd.\, Grand Prairie\, TX\, 75051\, United States
GEO:32.710895;-96.9946653
X-APPLE-STRUCTURED-LOCATION;VALUE=URI;X-ADDRESS=Outlaw Barbeque 2334 S. Beltline Line Rd. Grand Prairie TX 75051 United States;X-APPLE-RADIUS=500;X-TITLE=2334 S. Beltline Line Rd.:geo:-96.9946653,32.710895
END:VEVENT
BEGIN:VEVENT
DTSTART;TZID=America/Chicago:20260601T183000
DTEND;TZID=America/Chicago:20260601T203000
DTSTAMP:20260422T041050
CREATED:20260223T050259Z
LAST-MODIFIED:20260223T050423Z
UID:10002132-1780338600-1780345800@tarrantgop.org
SUMMARY:Reagan Legacy Republican Women Monthly Meeting
DESCRIPTION:6:30 – 8:30 PM – Program starts at 7PM
URL:https://tarrantgop.org/event/reagan-legacy-republican-women-monthly-meeting-3/
LOCATION:Anchora Event Center\, 403 E Broad St.\, Mansfield\, TX\, 76063\, United States
ORGANIZER;CN="Reagan Legacy RW":MAILTO:shanda@philking.com
GEO:32.5636026;-97.1383354
X-APPLE-STRUCTURED-LOCATION;VALUE=URI;X-ADDRESS=Anchora Event Center 403 E Broad St. Mansfield TX 76063 United States;X-APPLE-RADIUS=500;X-TITLE=403 E Broad St.:geo:-97.1383354,32.5636026
END:VEVENT
BEGIN:VEVENT
DTSTART;TZID=America/Chicago:20260603T173000
DTEND;TZID=America/Chicago:20260603T190000
DTSTAMP:20260422T041050
CREATED:20260127T200208Z
LAST-MODIFIED:20260127T200208Z
UID:10002076-1780507800-1780513200@tarrantgop.org
SUMMARY:Cowtown Republican Women
DESCRIPTION:5:30-6:00pm Check-in/Social \n6:00-7:00pm Meeting
URL:https://tarrantgop.org/event/cowtown-republican-women-6/
LOCATION:Rivercrest Country Club\, 1501 Western Ave\, Fort Worth\, TX\, 76107\, United States
ORGANIZER;CN="Cowtown Republican Women":MAILTO:contact@cowtownrepublicanwomen.com
GEO:32.7444242;-97.3853817
X-APPLE-STRUCTURED-LOCATION;VALUE=URI;X-ADDRESS=Rivercrest Country Club 1501 Western Ave Fort Worth TX 76107 United States;X-APPLE-RADIUS=500;X-TITLE=1501 Western Ave:geo:-97.3853817,32.7444242
END:VEVENT
BEGIN:VEVENT
DTSTART;TZID=America/Chicago:20260609T180000
DTEND;TZID=America/Chicago:20260609T193000
DTSTAMP:20260422T041050
CREATED:20260114T142116Z
LAST-MODIFIED:20260114T142116Z
UID:10001637-1781028000-1781033400@tarrantgop.org
SUMMARY:Grapevine Republican Club Meeting
DESCRIPTION:Meeting starts at 6pm. Doors open at 5:30 \nAnd don’t miss the new restaurant downstairs at Stacy’s! Roma’s Italian Bistro – Come early or stay late to visit\, eat\, and drink!
URL:https://tarrantgop.org/event/grapevine-republican-club-meeting-14/
LOCATION:Stacy Furniture\, 1900 S Main St.\, Grapevine\, Grapevine\, TX\, United States
ORGANIZER;CN="Grapevine Republiucan Club":MAILTO:grapevinerc@gmail.com
GEO:32.9190878;-97.0799069
X-APPLE-STRUCTURED-LOCATION;VALUE=URI;X-ADDRESS=Stacy Furniture 1900 S Main St. Grapevine Grapevine TX United States;X-APPLE-RADIUS=500;X-TITLE=1900 S Main St.\, Grapevine:geo:-97.0799069,32.9190878
END:VEVENT
BEGIN:VEVENT
DTSTART;TZID=America/Chicago:20260609T183000
DTEND;TZID=America/Chicago:20260609T200000
DTSTAMP:20260422T041050
CREATED:20260117T151752Z
LAST-MODIFIED:20260117T151752Z
UID:10002042-1781029800-1781035200@tarrantgop.org
SUMMARY:Fort Worth Republican Women - Tuesday Talk
DESCRIPTION:
URL:https://tarrantgop.org/event/fort-worth-republican-women-tuesday-talk-5/
LOCATION:Prima’s Pizza and Pasta\, 6108 S Hulen St\, Fort Worth\, TX\, 76133\, United States
ORGANIZER;CN="Fort Worth Republican Women":MAILTO:events@fwrw.org
GEO:32.6582403;-97.3991312
X-APPLE-STRUCTURED-LOCATION;VALUE=URI;X-ADDRESS=Prima’s Pizza and Pasta 6108 S Hulen St Fort Worth TX 76133 United States;X-APPLE-RADIUS=500;X-TITLE=6108 S Hulen St:geo:-97.3991312,32.6582403
END:VEVENT
BEGIN:VEVENT
DTSTART;VALUE=DATE:20260610
DTEND;VALUE=DATE:20260614
DTSTAMP:20260422T041050
CREATED:20260220T202513Z
LAST-MODIFIED:20260220T202513Z
UID:10002126-1781049600-1781395199@tarrantgop.org
SUMMARY:RPT State Convention
DESCRIPTION:Houston\, Texas
URL:https://tarrantgop.org/event/rpt-state-convention/
LOCATION:TX
END:VEVENT
BEGIN:VEVENT
DTSTART;TZID=America/Chicago:20260611T113000
DTEND;TZID=America/Chicago:20260611T130000
DTSTAMP:20260422T041050
CREATED:20260209T153839Z
LAST-MODIFIED:20260209T153839Z
UID:10002109-1781177400-1781182800@tarrantgop.org
SUMMARY:Metroplex Republican Women C.H.A.T.
DESCRIPTION:Informal Brunch gathering for member fellowship and discussion
URL:https://tarrantgop.org/event/metroplex-republican-women-c-h-a-t/2026-06-11/
LOCATION:Bacon’s Bistro & Cafe\, 714 Grapevine HWY\, Hurst\, TX\, 76054\, United States
ORGANIZER;CN="Metroplex Republican Women":MAILTO:coupdetant@aol.com
GEO:32.8611091;-97.1810126
X-APPLE-STRUCTURED-LOCATION;VALUE=URI;X-ADDRESS=Bacon’s Bistro & Cafe 714 Grapevine HWY Hurst TX 76054 United States;X-APPLE-RADIUS=500;X-TITLE=714 Grapevine HWY:geo:-97.1810126,32.8611091
END:VEVENT
BEGIN:VEVENT
DTSTART;TZID=America/Chicago:20260615T181500
DTEND;TZID=America/Chicago:20260615T200000
DTSTAMP:20260422T041050
CREATED:20260113T203225Z
LAST-MODIFIED:20260113T204352Z
UID:10001613-1781547300-1781553600@tarrantgop.org
SUMMARY:North East Tarrant County Republican Club
DESCRIPTION:Location:  Texas Star in Euless\n6:15pm:  Dinner/Coffee Fellowship\n7:00pm:  Meeting\nTo reserve dinner ($20) email:  Zariyan.stark@gmail.com
URL:https://tarrantgop.org/event/north-east-tarrant-county-republican-club-2/2026-06-15/
LOCATION:Texas Star Golf Course – Conference Centre\, 1400 Texas Star Parkway\, Euless\, TX\, United States
ATTACH;FMTTYPE=image/jpeg:https://tarrantgop.org/wp-content/uploads/2026/01/Northeast-Tarrant-County-Republican-Club-pyhtg1c7wh1ihisvvfodck4hupjip58rhhifd7puw0.jpg
ORGANIZER;CN="NE Tarrant Republican Club":MAILTO:Zariyan.stark@gmail.com
GEO:32.8189313;-97.1144564
X-APPLE-STRUCTURED-LOCATION;VALUE=URI;X-ADDRESS=Texas Star Golf Course – Conference Centre 1400 Texas Star Parkway Euless TX United States;X-APPLE-RADIUS=500;X-TITLE=1400 Texas Star Parkway:geo:-97.1144564,32.8189313
END:VEVENT
BEGIN:VEVENT
DTSTART;TZID=America/Chicago:20260616T090000
DTEND;TZID=America/Chicago:20260616T143000
DTSTAMP:20260422T041050
CREATED:20260420T193743Z
LAST-MODIFIED:20260420T193841Z
UID:10002566-1781600400-1781620200@tarrantgop.org
SUMMARY:6th Annual Clay Shoot for Chris Gregory
DESCRIPTION:SHOOT FOR CHRIS \n6th annual clay shoot \nwww.chrisgregory4jp.com/events-tickets
URL:https://tarrantgop.org/event/6th-annual-clay-shoot-for-chris-gregory/
LOCATION:Defender Outdoor Clay Sports Ranch\, 8270 Aledo Rd.\, Fort Worth\, TX\, 76126\, United States
ATTACH;FMTTYPE=image/jpeg:https://tarrantgop.org/wp-content/uploads/2026/04/IMG_0819-Christopher-Gregory.jpeg
GEO:32.6868218;-97.4690294
X-APPLE-STRUCTURED-LOCATION;VALUE=URI;X-ADDRESS=Defender Outdoor Clay Sports Ranch 8270 Aledo Rd. Fort Worth TX 76126 United States;X-APPLE-RADIUS=500;X-TITLE=8270 Aledo Rd.:geo:-97.4690294,32.6868218
END:VEVENT
BEGIN:VEVENT
DTSTART;TZID=America/Chicago:20260616T183000
DTEND;TZID=America/Chicago:20260616T200000
DTSTAMP:20260422T041050
CREATED:20260130T172132Z
LAST-MODIFIED:20260130T172132Z
UID:10002089-1781634600-1781640000@tarrantgop.org
SUMMARY:TARRANT COUNTY REPUBLICAN ASSEMBLY MONTHLY MEETING
DESCRIPTION:Everyone is welcome to attend. You are invited to apply for a membership.\nNew and exciting Conservative Republican speakers every month on the third Tuesday\, speaking on today’s most exciting and relevant topics. Always a great opportunity to meet candidates that are currently running for elected offices.
URL:https://tarrantgop.org/event/tarrant-county-republican-assembly-monthly-meeting-5/
LOCATION:Fort Worth Botanic Garden Rose Room\, 3220 Botanic Garden Blvd\, Fort Worth\, TX\, 76107
ORGANIZER;CN="TCRA":MAILTO:andrabeatty@gmail.com
GEO:32.7404164;-97.3638283
X-APPLE-STRUCTURED-LOCATION;VALUE=URI;X-ADDRESS=Fort Worth Botanic Garden Rose Room 3220 Botanic Garden Blvd Fort Worth TX 76107;X-APPLE-RADIUS=500;X-TITLE=3220 Botanic Garden Blvd:geo:-97.3638283,32.7404164
END:VEVENT
BEGIN:VEVENT
DTSTART;TZID=America/Chicago:20260623T190000
DTEND;TZID=America/Chicago:20260623T203000
DTSTAMP:20260422T041051
CREATED:20260225T002339Z
LAST-MODIFIED:20260225T002339Z
UID:10002151-1782241200-1782246600@tarrantgop.org
SUMMARY:Tarrant County Republican Hispanic Assembly
DESCRIPTION:Discussion
URL:https://tarrantgop.org/event/tarrant-county-republican-hispanic-assembly-7/
LOCATION:Ol’ South Pancake House\, 1509 S University Dr\, Fort Worth\, 76107\, United States
GEO:32.7301671;-97.3604868
X-APPLE-STRUCTURED-LOCATION;VALUE=URI;X-ADDRESS=Ol’ South Pancake House 1509 S University Dr Fort Worth 76107 United States;X-APPLE-RADIUS=500;X-TITLE=1509 S University Dr:geo:-97.3604868,32.7301671
END:VEVENT
BEGIN:VEVENT
DTSTART;TZID=America/Chicago:20260624T113000
DTEND;TZID=America/Chicago:20260624T133000
DTSTAMP:20260422T041051
CREATED:20260114T044326Z
LAST-MODIFIED:20260114T044326Z
UID:10001626-1782300600-1782307800@tarrantgop.org
SUMMARY:Fort Worth Republican Women Meeting
DESCRIPTION:11:30 am – Social\nNoon – Lunch and Speaker \n  \n 
URL:https://tarrantgop.org/event/fort-worth-republican-women-meeting-16/
LOCATION:City Club Fort Worth\, 301 Commerce Street\, Fort Worth\, TX\, 76102
ORGANIZER;CN="Fort Worth Republican Women":MAILTO:events@fwrw.org
GEO:32.7559934;-97.3306006
X-APPLE-STRUCTURED-LOCATION;VALUE=URI;X-ADDRESS=City Club Fort Worth 301 Commerce Street Fort Worth TX 76102;X-APPLE-RADIUS=500;X-TITLE=301 Commerce Street:geo:-97.3306006,32.7559934
END:VEVENT
BEGIN:VEVENT
DTSTART;TZID=America/Chicago:20260625T113000
DTEND;TZID=America/Chicago:20260625T130000
DTSTAMP:20260422T041051
CREATED:20260224T132657Z
LAST-MODIFIED:20260224T132657Z
UID:10002140-1782387000-1782392400@tarrantgop.org
SUMMARY:Metroplex Republican Women - Monthly General Meeting
DESCRIPTION:Metroplex Republican Women
URL:https://tarrantgop.org/event/metroplex-republican-women-monthly-general-meeting-4/
LOCATION:North Pointe Baptist Church\, 147 E. Hurst Blvd\, Hurst\, TX\, 76053
ORGANIZER;CN="Metroplex Republican Women":MAILTO:coupdetant@aol.com
GEO:32.8099117;-97.1678305
X-APPLE-STRUCTURED-LOCATION;VALUE=URI;X-ADDRESS=North Pointe Baptist Church 147 E. Hurst Blvd Hurst TX 76053;X-APPLE-RADIUS=500;X-TITLE=147 E. Hurst Blvd:geo:-97.1678305,32.8099117
END:VEVENT
BEGIN:VEVENT
DTSTART;TZID=America/Chicago:20260625T180000
DTEND;TZID=America/Chicago:20260625T180000
DTSTAMP:20260422T041051
CREATED:20260101T060718Z
LAST-MODIFIED:20260121T154914Z
UID:10001574-1782410400-1782410400@tarrantgop.org
SUMMARY:Arlington Republican Club
DESCRIPTION:Regular Meeting the 4th Thursday of Every Month.
URL:https://tarrantgop.org/event/arlington-republican-club-6/2026-06-25/
LOCATION:Skillet N’ Grill\, 1801 W. Division\, Arlington\, TX\, 76013
ATTACH;FMTTYPE=image/jpeg:https://tarrantgop.org/wp-content/uploads/2025/12/Screenshot-2026-01-01-000612.jpg
GEO:32.7363298;-97.1359797
X-APPLE-STRUCTURED-LOCATION;VALUE=URI;X-ADDRESS=Skillet N’ Grill 1801 W. Division Arlington TX 76013;X-APPLE-RADIUS=500;X-TITLE=1801 W. Division:geo:-97.1359797,32.7363298
END:VEVENT
BEGIN:VEVENT
DTSTART;TZID=America/Chicago:20260701T173000
DTEND;TZID=America/Chicago:20260701T190000
DTSTAMP:20260422T041051
CREATED:20260127T200246Z
LAST-MODIFIED:20260127T200246Z
UID:10002077-1782927000-1782932400@tarrantgop.org
SUMMARY:Cowtown Republican Women
DESCRIPTION:5:30-6:00pm Check-in/Social \n6:00-7:00pm Meeting
URL:https://tarrantgop.org/event/cowtown-republican-women-7/
LOCATION:Rivercrest Country Club\, 1501 Western Ave\, Fort Worth\, TX\, 76107\, United States
ORGANIZER;CN="Cowtown Republican Women":MAILTO:contact@cowtownrepublicanwomen.com
GEO:32.7444242;-97.3853817
X-APPLE-STRUCTURED-LOCATION;VALUE=URI;X-ADDRESS=Rivercrest Country Club 1501 Western Ave Fort Worth TX 76107 United States;X-APPLE-RADIUS=500;X-TITLE=1501 Western Ave:geo:-97.3853817,32.7444242
END:VEVENT
END:VCALENDAR