BEGIN:VCALENDAR
VERSION:2.0
PRODID:-//Tarrant County GOP - ECPv6.15.13//NONSGML v1.0//EN
CALSCALE:GREGORIAN
METHOD:PUBLISH
X-ORIGINAL-URL:https://tarrantgop.org
X-WR-CALDESC:Events for Tarrant County GOP
REFRESH-INTERVAL;VALUE=DURATION:PT1H
X-Robots-Tag:noindex
X-PUBLISHED-TTL:PT1H
BEGIN:VTIMEZONE
TZID:America/Chicago
BEGIN:DAYLIGHT
TZOFFSETFROM:-0600
TZOFFSETTO:-0500
TZNAME:CDT
DTSTART:20250309T080000
END:DAYLIGHT
BEGIN:STANDARD
TZOFFSETFROM:-0500
TZOFFSETTO:-0600
TZNAME:CST
DTSTART:20251102T070000
END:STANDARD
BEGIN:DAYLIGHT
TZOFFSETFROM:-0600
TZOFFSETTO:-0500
TZNAME:CDT
DTSTART:20260308T080000
END:DAYLIGHT
BEGIN:STANDARD
TZOFFSETFROM:-0500
TZOFFSETTO:-0600
TZNAME:CST
DTSTART:20261101T070000
END:STANDARD
BEGIN:DAYLIGHT
TZOFFSETFROM:-0600
TZOFFSETTO:-0500
TZNAME:CDT
DTSTART:20270314T080000
END:DAYLIGHT
BEGIN:STANDARD
TZOFFSETFROM:-0500
TZOFFSETTO:-0600
TZNAME:CST
DTSTART:20271107T070000
END:STANDARD
END:VTIMEZONE
BEGIN:VEVENT
DTSTART;TZID=America/Chicago:20260420T181500
DTEND;TZID=America/Chicago:20260420T200000
DTSTAMP:20260420T171156
CREATED:20260113T203225Z
LAST-MODIFIED:20260113T204352Z
UID:10001611-1776708900-1776715200@tarrantgop.org
SUMMARY:North East Tarrant County Republican Club
DESCRIPTION:Location:  Texas Star in Euless\n6:15pm:  Dinner/Coffee Fellowship\n7:00pm:  Meeting\nTo reserve dinner ($20) email:  Zariyan.stark@gmail.com
URL:https://tarrantgop.org/event/north-east-tarrant-county-republican-club-2/2026-04-20/
LOCATION:Texas Star Golf Course – Conference Centre\, 1400 Texas Star Parkway\, Euless\, TX\, United States
ATTACH;FMTTYPE=image/jpeg:https://tarrantgop.org/wp-content/uploads/2026/01/Northeast-Tarrant-County-Republican-Club-pyhtg1c7wh1ihisvvfodck4hupjip58rhhifd7puw0.jpg
ORGANIZER;CN="NE Tarrant Republican Club":MAILTO:Zariyan.stark@gmail.com
GEO:32.8189313;-97.1144564
X-APPLE-STRUCTURED-LOCATION;VALUE=URI;X-ADDRESS=Texas Star Golf Course – Conference Centre 1400 Texas Star Parkway Euless TX United States;X-APPLE-RADIUS=500;X-TITLE=1400 Texas Star Parkway:geo:-97.1144564,32.8189313
END:VEVENT
BEGIN:VEVENT
DTSTART;TZID=America/Chicago:20260421T183000
DTEND;TZID=America/Chicago:20260421T200000
DTSTAMP:20260420T171156
CREATED:20260130T172020Z
LAST-MODIFIED:20260130T172042Z
UID:10002086-1776796200-1776801600@tarrantgop.org
SUMMARY:TARRANT COUNTY REPUBLICAN ASSEMBLY MONTHLY MEETING
DESCRIPTION:Everyone is welcome to attend. You are invited to apply for a membership.\nNew and exciting Conservative Republican speakers every month on the third Tuesday\, speaking on today’s most exciting and relevant topics. Always a great opportunity to meet candidates that are currently running for elected offices.
URL:https://tarrantgop.org/event/tarrant-county-republican-assembly-monthly-meeting-2/
LOCATION:Fort Worth Botanic Garden Rose Room\, 3220 Botanic Garden Blvd\, Fort Worth\, TX\, 76107
ORGANIZER;CN="TCRA":MAILTO:andrabeatty@gmail.com
GEO:32.7404164;-97.3638283
X-APPLE-STRUCTURED-LOCATION;VALUE=URI;X-ADDRESS=Fort Worth Botanic Garden Rose Room 3220 Botanic Garden Blvd Fort Worth TX 76107;X-APPLE-RADIUS=500;X-TITLE=3220 Botanic Garden Blvd:geo:-97.3638283,32.7404164
END:VEVENT
BEGIN:VEVENT
DTSTART;TZID=America/Chicago:20260422T113000
DTEND;TZID=America/Chicago:20260422T133000
DTSTAMP:20260420T171156
CREATED:20260114T042659Z
LAST-MODIFIED:20260408T182424Z
UID:10001623-1776857400-1776864600@tarrantgop.org
SUMMARY:Fort Worth Republican Women Meeting
DESCRIPTION:11:30 am – Social\nNoon – Lunch and Speaker \n  \n 
URL:https://tarrantgop.org/event/fort-worth-republican-women-meeting-14/
LOCATION:City Club Fort Worth\, 301 Commerce Street\, Fort Worth\, TX\, 76102
ORGANIZER;CN="Fort Worth Republican Women":MAILTO:events@fwrw.org
GEO:32.7559934;-97.3306006
X-APPLE-STRUCTURED-LOCATION;VALUE=URI;X-ADDRESS=City Club Fort Worth 301 Commerce Street Fort Worth TX 76102;X-APPLE-RADIUS=500;X-TITLE=301 Commerce Street:geo:-97.3306006,32.7559934
END:VEVENT
BEGIN:VEVENT
DTSTART;TZID=America/Chicago:20260423T113000
DTEND;TZID=America/Chicago:20260423T130000
DTSTAMP:20260420T171156
CREATED:20260224T132629Z
LAST-MODIFIED:20260404T222846Z
UID:10002138-1776943800-1776949200@tarrantgop.org
SUMMARY:Metroplex Republican Women - Monthly General Meeting
DESCRIPTION:Metroplex Republican Women
URL:https://tarrantgop.org/event/metroplex-republican-women-monthly-general-meeting-2/
LOCATION:North Pointe Baptist Church\, 147 E. Hurst Blvd\, Hurst\, TX\, 76053
ATTACH;FMTTYPE=application/pdf:https://tarrantgop.org/wp-content/uploads/2026/02/Gen-Mtg-Announcement-042326-Pamela-Grayson.pdf
ORGANIZER;CN="Metroplex Republican Women":MAILTO:coupdetant@aol.com
GEO:32.8099117;-97.1678305
X-APPLE-STRUCTURED-LOCATION;VALUE=URI;X-ADDRESS=North Pointe Baptist Church 147 E. Hurst Blvd Hurst TX 76053;X-APPLE-RADIUS=500;X-TITLE=147 E. Hurst Blvd:geo:-97.1678305,32.8099117
END:VEVENT
BEGIN:VEVENT
DTSTART;TZID=America/Chicago:20260423T180000
DTEND;TZID=America/Chicago:20260423T180000
DTSTAMP:20260420T171156
CREATED:20260101T060718Z
LAST-MODIFIED:20260121T154914Z
UID:10001572-1776967200-1776967200@tarrantgop.org
SUMMARY:Arlington Republican Club
DESCRIPTION:Regular Meeting the 4th Thursday of Every Month.
URL:https://tarrantgop.org/event/arlington-republican-club-6/2026-04-23/
LOCATION:Skillet N’ Grill\, 1801 W. Division\, Arlington\, TX\, 76013
ATTACH;FMTTYPE=image/jpeg:https://tarrantgop.org/wp-content/uploads/2025/12/Screenshot-2026-01-01-000612.jpg
GEO:32.7363298;-97.1359797
X-APPLE-STRUCTURED-LOCATION;VALUE=URI;X-ADDRESS=Skillet N’ Grill 1801 W. Division Arlington TX 76013;X-APPLE-RADIUS=500;X-TITLE=1801 W. Division:geo:-97.1359797,32.7363298
END:VEVENT
BEGIN:VEVENT
DTSTART;TZID=America/Chicago:20260423T180000
DTEND;TZID=America/Chicago:20260423T193000
DTSTAMP:20260420T171156
CREATED:20260114T142036Z
LAST-MODIFIED:20260414T031713Z
UID:10001635-1776967200-1776972600@tarrantgop.org
SUMMARY:Grapevine Republican Club Meeting - SPECIAL GUEST Ken Paxton
DESCRIPTION:SPEAKERS:Attorney General Ken Paxton\, Candidate for Texas SenateKellen Jones\, Dallas Express\nThis is a night you do not want to miss!!\nMeeting starts at 6pm. Doors open at 5:30 \nAnd don’t miss the new restaurant downstairs at Stacy’s! Roma’s Italian Bistro – Come early or stay late to visit\, eat\, and drink!
URL:https://tarrantgop.org/event/grapevine-republican-club-meeting-12/
LOCATION:Stacy Furniture\, 1900 S Main St.\, Grapevine\, Grapevine\, TX\, United States
ATTACH;FMTTYPE=image/png:https://tarrantgop.org/wp-content/uploads/2026/01/Grapevine-event-with-Paxton-and-Jones.png
ORGANIZER;CN="Grapevine Republiucan Club":MAILTO:grapevinerc@gmail.com
GEO:32.9190878;-97.0799069
X-APPLE-STRUCTURED-LOCATION;VALUE=URI;X-ADDRESS=Stacy Furniture 1900 S Main St. Grapevine Grapevine TX United States;X-APPLE-RADIUS=500;X-TITLE=1900 S Main St.\, Grapevine:geo:-97.0799069,32.9190878
END:VEVENT
BEGIN:VEVENT
DTSTART;TZID=America/Chicago:20260424T183000
DTEND;TZID=America/Chicago:20260424T200000
DTSTAMP:20260420T171156
CREATED:20260410T170336Z
LAST-MODIFIED:20260413T162236Z
UID:10002565-1777055400-1777060800@tarrantgop.org
SUMMARY:FWRW City Council Place 10 Forum and Social
DESCRIPTION:Hear from place 10 candidates and talk to local officials!
URL:https://tarrantgop.org/event/fwrw-city-council-place-10-forum-and-social/
LOCATION:Fort Worth Boat Club\, 10000 Boat Club Road\, Fort Worth\, Texas\, 76179\, United States
ATTACH;FMTTYPE=image/png:https://tarrantgop.org/wp-content/uploads/2026/04/Boat-House-Forum-2-Melissa-McKechnie.png
ORGANIZER;CN="Fort Worth Republican Women":MAILTO:events@fwrw.org
GEO:32.8938735;-97.4864222
X-APPLE-STRUCTURED-LOCATION;VALUE=URI;X-ADDRESS=Fort Worth Boat Club 10000 Boat Club Road Fort Worth Texas 76179 United States;X-APPLE-RADIUS=500;X-TITLE=10000 Boat Club Road:geo:-97.4864222,32.8938735
END:VEVENT
BEGIN:VEVENT
DTSTART;TZID=America/Chicago:20260425T090000
DTEND;TZID=America/Chicago:20260425T113000
DTSTAMP:20260420T171156
CREATED:20260420T194034Z
LAST-MODIFIED:20260420T194034Z
UID:10002567-1777107600-1777116600@tarrantgop.org
SUMMARY:Voter Roll Review Committee
DESCRIPTION:First meeting of Voter Roll Review Committee in 2026
URL:https://tarrantgop.org/event/voter-roll-review-committee/
LOCATION:TCGOP Office\, 201 N Rupert St.\, Suite 117\, Fort Worth\, TX\, 76107\, United States
ORGANIZER;CN="Jim Sutton":MAILTO:jim@suttonsonline.com
GEO:32.7855081;-97.2143113
X-APPLE-STRUCTURED-LOCATION;VALUE=URI;X-ADDRESS=TCGOP Office 201 N Rupert St. Suite 117 Fort Worth TX 76107 United States;X-APPLE-RADIUS=500;X-TITLE=201 N Rupert St.\, Suite 117:geo:-97.2143113,32.7855081
END:VEVENT
BEGIN:VEVENT
DTSTART;TZID=America/Chicago:20260425T173000
DTEND;TZID=America/Chicago:20260425T190000
DTSTAMP:20260420T171156
CREATED:20260324T225154Z
LAST-MODIFIED:20260420T165735Z
UID:10002560-1777138200-1777143600@tarrantgop.org
SUMMARY:Meet & Greet MAYES MIDDLETON\, THOMAS SMITH\, BO FRENCH!
DESCRIPTION:Meet & Greet Statewide Candidates for Primary Runoff \nRSVP vincepuente@sostexas.com \nAddress sent upon RSVP
URL:https://tarrantgop.org/event/meet-greet-mayes-middleton-thomas-smith/
LOCATION:TX
ORGANIZER;CN="Vince & Mona Puente":MAILTO:vincepuente@sostexas.com
END:VEVENT
BEGIN:VEVENT
DTSTART;TZID=America/Chicago:20260428T190000
DTEND;TZID=America/Chicago:20260428T203000
DTSTAMP:20260420T171156
CREATED:20260225T002316Z
LAST-MODIFIED:20260225T002316Z
UID:10002149-1777402800-1777408200@tarrantgop.org
SUMMARY:Tarrant County Republican Hispanic Assembly
DESCRIPTION:Discussion
URL:https://tarrantgop.org/event/tarrant-county-republican-hispanic-assembly-5/
LOCATION:Ol’ South Pancake House\, 1509 S University Dr\, Fort Worth\, 76107\, United States
GEO:32.7301671;-97.3604868
X-APPLE-STRUCTURED-LOCATION;VALUE=URI;X-ADDRESS=Ol’ South Pancake House 1509 S University Dr Fort Worth 76107 United States;X-APPLE-RADIUS=500;X-TITLE=1509 S University Dr:geo:-97.3604868,32.7301671
END:VEVENT
END:VCALENDAR