BEGIN:VCALENDAR
VERSION:2.0
PRODID:-//Tarrant County GOP - ECPv6.15.13//NONSGML v1.0//EN
CALSCALE:GREGORIAN
METHOD:PUBLISH
X-ORIGINAL-URL:https://tarrantgop.org
X-WR-CALDESC:Events for Tarrant County GOP
REFRESH-INTERVAL;VALUE=DURATION:PT1H
X-Robots-Tag:noindex
X-PUBLISHED-TTL:PT1H
BEGIN:VTIMEZONE
TZID:America/Chicago
BEGIN:DAYLIGHT
TZOFFSETFROM:-0600
TZOFFSETTO:-0500
TZNAME:CDT
DTSTART:20250309T080000
END:DAYLIGHT
BEGIN:STANDARD
TZOFFSETFROM:-0500
TZOFFSETTO:-0600
TZNAME:CST
DTSTART:20251102T070000
END:STANDARD
BEGIN:DAYLIGHT
TZOFFSETFROM:-0600
TZOFFSETTO:-0500
TZNAME:CDT
DTSTART:20260308T080000
END:DAYLIGHT
BEGIN:STANDARD
TZOFFSETFROM:-0500
TZOFFSETTO:-0600
TZNAME:CST
DTSTART:20261101T070000
END:STANDARD
BEGIN:DAYLIGHT
TZOFFSETFROM:-0600
TZOFFSETTO:-0500
TZNAME:CDT
DTSTART:20270314T080000
END:DAYLIGHT
BEGIN:STANDARD
TZOFFSETFROM:-0500
TZOFFSETTO:-0600
TZNAME:CST
DTSTART:20271107T070000
END:STANDARD
END:VTIMEZONE
BEGIN:VEVENT
DTSTART;TZID=America/Chicago:20260406T183000
DTEND;TZID=America/Chicago:20260406T200000
DTSTAMP:20260421T120828
CREATED:20260120T164023Z
LAST-MODIFIED:20260120T164023Z
UID:10002051-1775500200-1775505600@tarrantgop.org
SUMMARY:Grand Prairie Republican Club Meeting
DESCRIPTION:Monthly Meeting
URL:https://tarrantgop.org/event/grand-prairie-republican-club-meeting-8/
LOCATION:Outlaw Barbeque\, 2334 S. Beltline Line Rd.\, Grand Prairie\, TX\, 75051\, United States
GEO:32.710895;-96.9946653
X-APPLE-STRUCTURED-LOCATION;VALUE=URI;X-ADDRESS=Outlaw Barbeque 2334 S. Beltline Line Rd. Grand Prairie TX 75051 United States;X-APPLE-RADIUS=500;X-TITLE=2334 S. Beltline Line Rd.:geo:-96.9946653,32.710895
END:VEVENT
BEGIN:VEVENT
DTSTART;TZID=America/Chicago:20260302T183000
DTEND;TZID=America/Chicago:20260302T200000
DTSTAMP:20260421T120828
CREATED:20260120T164549Z
LAST-MODIFIED:20260226T201925Z
UID:10002059-1772476200-1772481600@tarrantgop.org
SUMMARY:Grand Prairie Republican Club Meeting - CD30 Forum
DESCRIPTION:Monthly Meeting \nCD 30 forum
URL:https://tarrantgop.org/event/grand-prairie-republican-club-meeting-16/
LOCATION:Outlaw Barbeque\, 2334 S. Beltline Line Rd.\, Grand Prairie\, TX\, 75051\, United States
GEO:32.710895;-96.9946653
X-APPLE-STRUCTURED-LOCATION;VALUE=URI;X-ADDRESS=Outlaw Barbeque 2334 S. Beltline Line Rd. Grand Prairie TX 75051 United States;X-APPLE-RADIUS=500;X-TITLE=2334 S. Beltline Line Rd.:geo:-96.9946653,32.710895
END:VEVENT
BEGIN:VEVENT
DTSTART;TZID=America/Chicago:20260202T183000
DTEND;TZID=America/Chicago:20260202T200000
DTSTAMP:20260421T120828
CREATED:20260120T163958Z
LAST-MODIFIED:20260130T172737Z
UID:10002050-1770057000-1770062400@tarrantgop.org
SUMMARY:Grand Prairie Republican Club Meeting
DESCRIPTION:Monthly Meeting – Mayes Middleton is Guest Speaker along with Aaron Reitz or someone from his campaign.
URL:https://tarrantgop.org/event/grand-prairie-republican-club-meeting-5/
LOCATION:Outlaw Barbeque\, 2334 S. Beltline Line Rd.\, Grand Prairie\, TX\, 75051\, United States
GEO:32.710895;-96.9946653
X-APPLE-STRUCTURED-LOCATION;VALUE=URI;X-ADDRESS=Outlaw Barbeque 2334 S. Beltline Line Rd. Grand Prairie TX 75051 United States;X-APPLE-RADIUS=500;X-TITLE=2334 S. Beltline Line Rd.:geo:-96.9946653,32.710895
END:VEVENT
END:VCALENDAR