BEGIN:VCALENDAR
VERSION:2.0
PRODID:-//Tarrant County GOP - ECPv6.15.13//NONSGML v1.0//EN
CALSCALE:GREGORIAN
METHOD:PUBLISH
X-WR-CALNAME:Tarrant County GOP
X-ORIGINAL-URL:https://tarrantgop.org
X-WR-CALDESC:Events for Tarrant County GOP
REFRESH-INTERVAL;VALUE=DURATION:PT1H
X-Robots-Tag:noindex
X-PUBLISHED-TTL:PT1H
BEGIN:VTIMEZONE
TZID:America/Chicago
BEGIN:DAYLIGHT
TZOFFSETFROM:-0600
TZOFFSETTO:-0500
TZNAME:CDT
DTSTART:20250309T080000
END:DAYLIGHT
BEGIN:STANDARD
TZOFFSETFROM:-0500
TZOFFSETTO:-0600
TZNAME:CST
DTSTART:20251102T070000
END:STANDARD
BEGIN:DAYLIGHT
TZOFFSETFROM:-0600
TZOFFSETTO:-0500
TZNAME:CDT
DTSTART:20260308T080000
END:DAYLIGHT
BEGIN:STANDARD
TZOFFSETFROM:-0500
TZOFFSETTO:-0600
TZNAME:CST
DTSTART:20261101T070000
END:STANDARD
BEGIN:DAYLIGHT
TZOFFSETFROM:-0600
TZOFFSETTO:-0500
TZNAME:CDT
DTSTART:20270314T080000
END:DAYLIGHT
BEGIN:STANDARD
TZOFFSETFROM:-0500
TZOFFSETTO:-0600
TZNAME:CST
DTSTART:20271107T070000
END:STANDARD
END:VTIMEZONE
BEGIN:VEVENT
DTSTART;TZID=America/Chicago:20260420T181500
DTEND;TZID=America/Chicago:20260420T200000
DTSTAMP:20260421T154638
CREATED:20260113T203225Z
LAST-MODIFIED:20260113T204352Z
UID:10001611-1776708900-1776715200@tarrantgop.org
SUMMARY:North East Tarrant County Republican Club
DESCRIPTION:Location:  Texas Star in Euless\n6:15pm:  Dinner/Coffee Fellowship\n7:00pm:  Meeting\nTo reserve dinner ($20) email:  Zariyan.stark@gmail.com
URL:https://tarrantgop.org/event/north-east-tarrant-county-republican-club-2/2026-04-20/
LOCATION:Texas Star Golf Course – Conference Centre\, 1400 Texas Star Parkway\, Euless\, TX\, United States
ATTACH;FMTTYPE=image/jpeg:https://tarrantgop.org/wp-content/uploads/2026/01/Northeast-Tarrant-County-Republican-Club-pyhtg1c7wh1ihisvvfodck4hupjip58rhhifd7puw0.jpg
ORGANIZER;CN="NE Tarrant Republican Club":MAILTO:Zariyan.stark@gmail.com
GEO:32.8189313;-97.1144564
X-APPLE-STRUCTURED-LOCATION;VALUE=URI;X-ADDRESS=Texas Star Golf Course – Conference Centre 1400 Texas Star Parkway Euless TX United States;X-APPLE-RADIUS=500;X-TITLE=1400 Texas Star Parkway:geo:-97.1144564,32.8189313
END:VEVENT
BEGIN:VEVENT
DTSTART;TZID=America/Chicago:20260413T183000
DTEND;TZID=America/Chicago:20260413T200000
DTSTAMP:20260421T154638
CREATED:20260321T221315Z
LAST-MODIFIED:20260323T001758Z
UID:10002554-1776105000-1776110400@tarrantgop.org
SUMMARY:True Texas Project Monthly Meeting
DESCRIPTION:Fighting the Islamization of Texas with Krista Schild\nBy now we have all heard of the Epic City “Sharia” Community in North Texas. We have invited Krista Schild with the RAIR foundation to speak to us about what is actually happening and what can be done. With over 400 acres designated for what is being termed a “Sharia city\,” Schild is at the forefront of a movement that aims to bring attention to the implications of this project. Dubbed “EPIC City\,” this development is associated with the East Plano Islamic Center\, a group that has sparked significant debate and concern among local residents and beyond. \nKrista – who has been training others on the threats of Islam and Marxism for five years – will present an action plan that will help protect Northeast Texas from becoming the Epicenter of Islam in America. She has been leading trained teams to lawfully and creatively take on threats at the local level. The issue of the plans to build Hamas Sanctuary Cities in our communities warrants special attention. We will not only discuss an understanding of what this would mean regarding our future and that of our children\, but include actionable items to refute it. \nSpeaker: Krista Schild\nMonday\, April 13th\nTexas Star Golf Course\, 1400 Texas Star Pkwy. Euless\, TX 76040\n6:00pm –Prayer gathering (open to all)\n6:30-8:00pm –meeting\nNo dues. No fees. No memberships. No RSVPs\n \nAbout Krista Schild:\nKrista Schild is currently assisting RAIR FOUNDATION\, a grassroots counter-group to Sharia and Marxist threat organizations. \nShe is a grassroots activist\, as well as an active Hunt County Precinct Chair. She has represented both Denton County and Hunt County at the Republican State Convention as a delegate. \nKrista has served in numerous roles to inform the truth about our liberties through Education on America’s Founding Principles and exposing the threats of Sharia and Marxist Organizations. She also speaks on how to build teams at the local level to identify and target them. \nKrista has served as an Election Judge and strongly advocated for legislation during session in multiple House and Senate Bills. \nShe carries her life based on Judeo-Christian values and her God-given mandate to stand for the Constitution and be a voice for the People. She has served as a Staff Pastor\, as well as a Prayer Leader and Government Intercessory Alliance member. She and her husband\, Jeff\, have been married for 30 years and have built three successful construction contracting businesses. They are proud parents of 3 grown sons\, all apprentice electricians.
URL:https://tarrantgop.org/event/true-texas-project-monthly-meeting-2/
LOCATION:Texas Star Golf Course – Conference Centre\, 1400 Texas Star Parkway\, Euless\, TX\, United States
GEO:32.8189313;-97.1144564
X-APPLE-STRUCTURED-LOCATION;VALUE=URI;X-ADDRESS=Texas Star Golf Course – Conference Centre 1400 Texas Star Parkway Euless TX United States;X-APPLE-RADIUS=500;X-TITLE=1400 Texas Star Parkway:geo:-97.1144564,32.8189313
END:VEVENT
BEGIN:VEVENT
DTSTART;TZID=America/Chicago:20260316T181500
DTEND;TZID=America/Chicago:20260316T200000
DTSTAMP:20260421T154638
CREATED:20260113T203225Z
LAST-MODIFIED:20260113T204352Z
UID:10001610-1773684900-1773691200@tarrantgop.org
SUMMARY:North East Tarrant County Republican Club
DESCRIPTION:Location:  Texas Star in Euless\n6:15pm:  Dinner/Coffee Fellowship\n7:00pm:  Meeting\nTo reserve dinner ($20) email:  Zariyan.stark@gmail.com
URL:https://tarrantgop.org/event/north-east-tarrant-county-republican-club-2/2026-03-16/
LOCATION:Texas Star Golf Course – Conference Centre\, 1400 Texas Star Parkway\, Euless\, TX\, United States
ATTACH;FMTTYPE=image/jpeg:https://tarrantgop.org/wp-content/uploads/2026/01/Northeast-Tarrant-County-Republican-Club-pyhtg1c7wh1ihisvvfodck4hupjip58rhhifd7puw0.jpg
ORGANIZER;CN="NE Tarrant Republican Club":MAILTO:Zariyan.stark@gmail.com
GEO:32.8189313;-97.1144564
X-APPLE-STRUCTURED-LOCATION;VALUE=URI;X-ADDRESS=Texas Star Golf Course – Conference Centre 1400 Texas Star Parkway Euless TX United States;X-APPLE-RADIUS=500;X-TITLE=1400 Texas Star Parkway:geo:-97.1144564,32.8189313
END:VEVENT
BEGIN:VEVENT
DTSTART;TZID=America/Chicago:20260216T181500
DTEND;TZID=America/Chicago:20260216T200000
DTSTAMP:20260421T154638
CREATED:20260113T203225Z
LAST-MODIFIED:20260113T204352Z
UID:10001609-1771265700-1771272000@tarrantgop.org
SUMMARY:North East Tarrant County Republican Club
DESCRIPTION:Location:  Texas Star in Euless\n6:15pm:  Dinner/Coffee Fellowship\n7:00pm:  Meeting\nTo reserve dinner ($20) email:  Zariyan.stark@gmail.com
URL:https://tarrantgop.org/event/north-east-tarrant-county-republican-club-2/2026-02-16/
LOCATION:Texas Star Golf Course – Conference Centre\, 1400 Texas Star Parkway\, Euless\, TX\, United States
ATTACH;FMTTYPE=image/jpeg:https://tarrantgop.org/wp-content/uploads/2026/01/Northeast-Tarrant-County-Republican-Club-pyhtg1c7wh1ihisvvfodck4hupjip58rhhifd7puw0.jpg
ORGANIZER;CN="NE Tarrant Republican Club":MAILTO:Zariyan.stark@gmail.com
GEO:32.8189313;-97.1144564
X-APPLE-STRUCTURED-LOCATION;VALUE=URI;X-ADDRESS=Texas Star Golf Course – Conference Centre 1400 Texas Star Parkway Euless TX United States;X-APPLE-RADIUS=500;X-TITLE=1400 Texas Star Parkway:geo:-97.1144564,32.8189313
END:VEVENT
END:VCALENDAR